BEGIN:VCALENDAR
VERSION:2.0
PRODID:-//eventon.com NONSGML v1.0//EN
CALSCALE:GREGORIAN
METHOD:PUBLISH
BEGIN:VEVENT
UID:69e57192cc965
DTSTAMP:20260420T002138Z
DTSTART:20260419T170000Z
DTEND:20260419T235900Z
LOCATION:Le Relais Saint-Martin Rue de Beauvechain\,  56
SUMMARY:LORENZO DI MAIO "RUBY"
DESCRIPTION:« RUBY » est le projet qui\,  actuellement\,  incarne le mieu
 x la personnalité du guitariste Lorenzo Di Maio\,  toujours en quête de n
 ouvelles échappées belles\,  pour autant qu’elles soient lyriques. Dans
  ce quartette sans basse\,  le natif de Saint-Ghislain met le synthétiseur
  en avant. De type Moog ou Prophet\,  cette[..]\nhttps://lecentreculturel.b
 e/evenement/lorenzo-di-maio-ruby/
URL:https://lecentreculturel.be/evenement/lorenzo-di-maio-ruby/
END:VEVENT
END:VCALENDAR