BEGIN:VCALENDAR
VERSION:2.0
PRODID:-//eventon.com NONSGML v1.0//EN
CALSCALE:GREGORIAN
METHOD:PUBLISH
BEGIN:VEVENT
UID:69e6a31bcb0a1
DTSTAMP:20260420T220515Z
DTSTART:20260517T170000Z
DTEND:20260517T235900Z
LOCATION:Centre culturel de Beauvechain Rue Auguste Goemans\,  20A
SUMMARY:COLLINE
DESCRIPTION:De la chanson francophone acoustique\,  poétique\,  existentie
 lle\,  et parfois rigolote. Se visiter soi-même le temps d’un concert\, 
  c’est ce à quoi vous invite COLLINE en interprétant des chansons issue
 s d’un dialogue entre son monde intérieur et notre réalité toujours pl
 us crue. Sur votre gauche\,  vous pouvez apercevoir l’allégresse d’une
  perspective[..]\nhttps://lecentreculturel.be/evenement/colline/
URL:https://lecentreculturel.be/evenement/colline/
END:VEVENT
END:VCALENDAR