BEGIN:VCALENDAR
VERSION:2.0
PRODID:-//eventon.com NONSGML v1.0//EN
CALSCALE:GREGORIAN
METHOD:PUBLISH
BEGIN:VEVENT
UID:69e4c3f8086d4
DTSTAMP:20260419T120056Z
DTSTART:20260329T090000Z
DTEND:20260329T103000Z
LOCATION:Au Vert Galant Place Communale\,  5 - 1320 Beauvechain
SUMMARY:TABLES DE CONVERSATION EN WALLON
DESCRIPTION:L’activité s’adresse à toute personne qui désire apprend
 re ou améliorer sa connaissance et sa pratique du wallon dans une ambiance
  conviviale.\nhttps://lecentreculturel.be/evenement/tables-de-conversation-
 en-wallon-mar-26/
URL:https://lecentreculturel.be/evenement/tables-de-conversation-en-wallon-mar-26/
END:VEVENT
END:VCALENDAR