BEGIN:VCALENDAR
VERSION:2.0
PRODID:-//eventon.com NONSGML v1.0//EN
CALSCALE:GREGORIAN
METHOD:PUBLISH
BEGIN:VEVENT
UID:69e4d0d4516d2
DTSTAMP:20260419T125548Z
DTSTART:20260214T200000Z
DTEND:20260214T230000Z
LOCATION:Le Relais Saint-Martin Rue de Beauvechain\,  56
SUMMARY:Vol de nuit
DESCRIPTION:Les Francs-Conteurs présentent : VOL de NUIT de Dany Van Ysere
 n &#8211; Mise en scène de Christian Arbalestrie Nous sommes au 11e étage
  d’un appartement\,  calme et confortable\,  du nouvel immeuble social de
  Hamme-Mille. 2 co-locataires : Fanny et son meilleur ami Gody ! Fanny a po
 ur amant un homme[..]\nhttps://lecentreculturel.be/evenement/vol-de-nuit/va
 r/ri-4.l-L1
URL:https://lecentreculturel.be/evenement/vol-de-nuit/var/ri-4.l-L1
END:VEVENT
END:VCALENDAR