BEGIN:VCALENDAR
VERSION:2.0
PRODID:-//eventon.com NONSGML v1.0//EN
CALSCALE:GREGORIAN
METHOD:PUBLISH
BEGIN:VEVENT
UID:69e4cbae1b85d
DTSTAMP:20260419T123350Z
DTSTART:20260423T140000Z
DTEND:20260423T180000Z
LOCATION:A L&#039;BOUTROULE Rue Auguste Goemans\,  20 - 1320 Hamme-Mille
SUMMARY:Café tricot
DESCRIPTION:À L&rsquo;Estaminet culturel « A l&rsquo;Boutroule » du Ce
 ntre culturel\,  Beauvechain en transition vous propose un Café tricot | c
 rochet | broderie les jeudis\,  de 14 à 18h (on arrive et on part quand on
  veut). À vos aiguilles et à vos en cours ! Matériel sur place et consei
 ls pour les[..]\nhttps://lecentreculturel.be/evenement/cafe-tricot-5/var/ri
 -1.l-L1
URL:https://lecentreculturel.be/evenement/cafe-tricot-5/var/ri-1.l-L1
END:VEVENT
END:VCALENDAR