BEGIN:VCALENDAR
VERSION:2.0
PRODID:-//eventon.com NONSGML v1.0//EN
CALSCALE:GREGORIAN
METHOD:PUBLISH
BEGIN:VEVENT
UID:69e94887a2fa1
DTSTAMP:20260422T221535Z
DTSTART:20260531T170000Z
DTEND:20260531T235900Z
LOCATION:Église Saint-Martin 1 Place Saint-Martin - 1320 Tourinnes-la-Grosse
SUMMARY:CONCERT OCN MAI 2026
DESCRIPTION:Orchestre de Chambre de la Néthen Direction : Alain et Benoît
  Meulemans Alexandre Feye (violon) &amp; Marc Martin Nogueroles (violoncell
 e) Concert de musique essentiellement romantique mais pas que&#8230; Saint-
 Saëns (Danse macabre) Sibelius (Valse triste) Mendelssohn (Concerto n°1) 
 Fauré (Élégie) Farkas (Piccola Musica di Concerto) &#8230;\nhttps://lece
 ntreculturel.be/evenement/concert-ocn-mai-2026/
URL:https://lecentreculturel.be/evenement/concert-ocn-mai-2026/
END:VEVENT
END:VCALENDAR