BEGIN:VCALENDAR
VERSION:2.0
PRODID:-//eventon.com NONSGML v1.0//EN
CALSCALE:GREGORIAN
METHOD:PUBLISH
BEGIN:VEVENT
UID:69e7753e2f1ae
DTSTAMP:20260421T130150Z
DTSTART:20190827T210000Z
DTEND:20190827T235000Z
LOCATION:Place Communale Place Communale\,  1 1320 Beauvechain
SUMMARY:THÉÂTRE AU CHÂTEAU : L'HEUREUX ÉLU
DESCRIPTION:L’HEUREUX ÉLU de Éric Assous par la Compagnie des Galeries 
 Un talent sûr\,  un sens des dialogues qui ont l’apparence du naturel ma
 is qui sont très bien ciselés\,  des personnages qui possèdent une épai
 sseur humaine. Dans cette pièce\,  on retrouve les thèmes qu’Éric Asso
 us puise dans notre société. Avec «[..]\nhttps://lecentreculturel.be/eve
 nement/theatre-au-chateau-lheureux-elu/
URL:https://lecentreculturel.be/evenement/theatre-au-chateau-lheureux-elu/
END:VEVENT
END:VCALENDAR