BEGIN:VCALENDAR
VERSION:2.0
PRODID:-//eventon.com NONSGML v1.0//EN
CALSCALE:GREGORIAN
METHOD:PUBLISH
BEGIN:VEVENT
UID:69e71a273e9ff
DTSTAMP:20260421T063311Z
DTSTART:20191017T100000Z
DTEND:20191017T120000Z
LOCATION:Centre culturel de Beauvechain Rue Auguste Goemans\,  20A
SUMMARY:FORMATIONS À L'INFORMATIQUE
DESCRIPTION:FORMATRICE : SOPHIE MAHIEU Le Centre culturel de Beauvechain v
 ous propose des formations à l’informatique à destination des débutant
 s mais également pour ceux qui s’intéressent aux dernières innovations
  des technologies de l’information et de la communication. Internet : ut
 ilisation des outils Google Jeudis 17 et 24 octobre de 10h00 à 12h00 Inter
 net :[..]\nhttps://lecentreculturel.be/evenement/formations-a-linformatiqu
 e/
URL:https://lecentreculturel.be/evenement/formations-a-linformatique/
END:VEVENT
END:VCALENDAR