BEGIN:VCALENDAR
VERSION:2.0
PRODID:-//eventon.com NONSGML v1.0//EN
CALSCALE:GREGORIAN
METHOD:PUBLISH
BEGIN:VEVENT
UID:69e995d5980ac
DTSTAMP:20260423T034525Z
DTSTART:20221216T133000Z
DTEND:20221216T153000Z
LOCATION:Centre culturel de Beauvechain Rue Auguste Goemans\,  20A
SUMMARY:"Nude performances" de Jean Dalemans
DESCRIPTION:Atelier libre au Centre Culturel de Beauvechain à Hamme-Mille 
 Nouvelles dates en avril\,  mai\,  juin 2023 (tous les quinze jours le vend
 redi). Ces séances sont accessibles à tous (dessinateurs\,  écrivains\, 
  poètes\,  artistes\,  toute personne en recherche de ressourcement créat
 if) quel que soit son niveau\,  sa technique ou son mode d&rsquo;expression
 ;[..]\nhttps://lecentreculturel.be/evenement/nude-performances-de-jean-dale
 mans/
URL:https://lecentreculturel.be/evenement/nude-performances-de-jean-dalemans/
END:VEVENT
END:VCALENDAR