BEGIN:VCALENDAR
VERSION:2.0
PRODID:-//eventon.com NONSGML v1.0//EN
CALSCALE:GREGORIAN
METHOD:PUBLISH
BEGIN:VEVENT
UID:69e651214f9bd
DTSTAMP:20260420T161529Z
DTSTART:20230825T180000Z
DTEND:20230825T215000Z
LOCATION:Centre culturel de Beauvechain Rue Auguste Goemans\,  20A
SUMMARY:CONCERT « Lutherie sauvage aux pays des cordes… »
DESCRIPTION:Max Vandervorst est musicien\,  compositeur et inventeur d’in
 struments. Depuis 1988\,  il crée des spectacles internationaux basés sur
  la musicalisation d’objets quotidiens. Il est également compositeur de 
 nombreuses musiques de scènes et concepteur de la « Maison de la Pataphon
 ie » à Dinant (Belgique). Il a écrit plusieurs ouvrages de référence[.
 .]\nhttps://lecentreculturel.be/evenement/concert-max-ocn/
URL:https://lecentreculturel.be/evenement/concert-max-ocn/
END:VEVENT
END:VCALENDAR