BEGIN:VCALENDAR
VERSION:2.0
PRODID:-//eventon.com NONSGML v1.0//EN
CALSCALE:GREGORIAN
METHOD:PUBLISH
BEGIN:VEVENT
UID:69e7585badbde
DTSTAMP:20260421T105835Z
DTSTART:20250106T123000Z
DTEND:20250106T143000Z
LOCATION:A L&#039;BOUTROULE Rue Auguste Goemans\,  20 - 1320 Hamme-Mille
SUMMARY:ATELIERS PLURIDISCIPLINAIRES - 1er semestre 2025
DESCRIPTION:Animatrice : Lydie Carle L’atelier pluridisciplinaire se pré
 sente comme un lieu de découverte accessible à chacun\,  un moment conviv
 ial où il est bon de prendre un temps pour soi. Initiation à la peinture 
 toutes techniques. Développer sa créativité\,  s’exprimer\,  communiqu
 er ses émotions\,  sa perception du monde au moyen d’images et[..]\nhttp
 s://lecentreculturel.be/evenement/ateliers-pluridisciplinaires-2eme-semestr
 e-24-25/
URL:https://lecentreculturel.be/evenement/ateliers-pluridisciplinaires-2eme-semestre-24-25/
END:VEVENT
END:VCALENDAR