BEGIN:VCALENDAR
VERSION:2.0
PRODID:-//eventon.com NONSGML v1.0//EN
CALSCALE:GREGORIAN
METHOD:PUBLISH
BEGIN:VEVENT
UID:69e4c7bb7b58e
DTSTAMP:20260419T121659Z
DTSTART:20250311T190000Z
DTEND:20250311T225900Z
LOCATION:Centre culturel de Beauvechain Rue Auguste Goemans\,  20A
SUMMARY:LES ALPES\,  ambiance des cÃ®mes
DESCRIPTION:Lieu lÃ©gendaire et incomparable de hauteur\,  de vide\,  de na
 ture sauvage\,  de tradition et d&rsquo;authenticitÃ©\,  vastes mais tout Ã
   la fois intimistes\, Â les Alpes\,  toit de l&rsquo;Europe\,  sont une so
 urce d&rsquo;inspiration infinie.Â  Le fil conducteur du film Â«Â la route 
 des grandes AlpesÂ Â» sera prÃ©texte Ã  nousÂ Ã©chapper trÃ¨s rÃ©guliÃ¨reme
 nt pour nous offrir[..]\nhttps://lecentreculturel.be/evenement/les-alpes-am
 biance-des-cimes/
URL:https://lecentreculturel.be/evenement/les-alpes-ambiance-des-cimes/
END:VEVENT
END:VCALENDAR