BEGIN:VCALENDAR
VERSION:2.0
PRODID:-//eventon.com NONSGML v1.0//EN
CALSCALE:GREGORIAN
METHOD:PUBLISH
BEGIN:VEVENT
UID:69e7e6642315e
DTSTAMP:20260421T210436Z
DTSTART:20241130T193000Z
DTEND:20241130T220000Z
LOCATION:Église Saint-Martin 1 Place Saint-Martin - 1320 Tourinnes-la-Grosse
SUMMARY:Voici Macbeth après Shakespeare
DESCRIPTION:Une création sur mesure pour les Fêtes de la Saint-Martin. Sp
 ectacle collectif avec 90 acteurs\,  choristes et musiciens. La pièce Voic
 i Macbeth ou presque ! Les personnages sont bousculés\,  la fiction réin
 ventée. Ceci n’est pas Macbeth\,  quoi que ! Ambition\,  pouvoir et fol
 ie règnent. Après Shakespeare c’est peut-être la fête. Les Fêtes[..]
 \nhttps://lecentreculturel.be/evenement/voici-macbeth-apres-shakespeare/var
 /ri-7.l-L1
URL:https://lecentreculturel.be/evenement/voici-macbeth-apres-shakespeare/var/ri-7.l-L1
END:VEVENT
END:VCALENDAR