BEGIN:VCALENDAR
VERSION:2.0
PRODID:-//eventon.com NONSGML v1.0//EN
CALSCALE:GREGORIAN
METHOD:PUBLISH
BEGIN:VEVENT
UID:69eb29e2f3cab
DTSTAMP:20260424T082922Z
DTSTART:20250405T173000Z
DTEND:20250405T085300Z
LOCATION:Le Relais Saint-Martin Rue de Beauvechain\,  56
SUMMARY:ERNESSE N'A PONT D'CHANCE
DESCRIPTION:ERNESSE N'A PONT D'CHANCE\nhttps://lecentreculturel.be/evenemen
 t/ernesse-na-pont-dchance/var/ri-4.l-L1
URL:https://lecentreculturel.be/evenement/ernesse-na-pont-dchance/var/ri-4.l-L1
END:VEVENT
END:VCALENDAR