BEGIN:VCALENDAR
VERSION:2.0
PRODID:-//eventon.com NONSGML v1.0//EN
CALSCALE:GREGORIAN
METHOD:PUBLISH
BEGIN:VEVENT
UID:69e500c27fb0f
DTSTAMP:20260419T162018Z
DTSTART:20250714T072000Z
DTEND:20250714T180000Z
LOCATION:Centre culturel de Beauvechain Rue Auguste Goemans\,  20A
SUMMARY:Four papier primitif
DESCRIPTION:AnimatriceÂ : Claudine Bodson Le four papier est une technique 
 de cuisson trÃ¨s particuliÃ¨re qui consiste Ã  cuire en plein air dans un Â
 «Â fourÂ Â» confectionnÃ© en bois\,  terre et papier\,  des sculptures ou d
 es objets rÃ©alisÃ©s en terre rÃ©fractaire. MatÃ©riel Ã  apporterÂ par les 
 participantsÂ : â€¢ Pique-nique et boissons\,  vÃªtements adaptÃ©s\,  chaus
 sures[..]\nhttps://lecentreculturel.be/evenement/four-papier-primitif/
URL:https://lecentreculturel.be/evenement/four-papier-primitif/
END:VEVENT
END:VCALENDAR